BEGIN:VCALENDAR
VERSION:2.0
PRODID:-//Boys &amp; Girls Clubs of Greater Northwest Indiana - ECPv5.0.3.1//NONSGML v1.0//EN
CALSCALE:GREGORIAN
METHOD:PUBLISH
X-WR-CALNAME:Boys &amp; Girls Clubs of Greater Northwest Indiana
X-ORIGINAL-URL:https://www.bgcgreaternwi.org
X-WR-CALDESC:Events for Boys &amp; Girls Clubs of Greater Northwest Indiana
BEGIN:VTIMEZONE
TZID:UTC
BEGIN:STANDARD
TZOFFSETFROM:+0000
TZOFFSETTO:+0000
TZNAME:UTC
DTSTART:20240101T000000
END:STANDARD
END:VTIMEZONE
BEGIN:VEVENT
DTSTART;VALUE=DATE:20240711
DTEND;VALUE=DATE:20240712
DTSTAMP:20260422T011032
CREATED:20240105T160711Z
LAST-MODIFIED:20240105T160711Z
UID:24873-1720656000-1720742399@www.bgcgreaternwi.org
SUMMARY:Organization Golf Outing
DESCRIPTION:Join us for our annual Golf Outing held at White Hawk Country Club.  \n
URL:https://www.bgcgreaternwi.org/club-calendar/organization-golf-outing/
END:VEVENT
END:VCALENDAR