BEGIN:VCALENDAR
VERSION:2.0
PRODID:-//Boys &amp; Girls Clubs of Greater Northwest Indiana - ECPv5.0.3.1//NONSGML v1.0//EN
CALSCALE:GREGORIAN
METHOD:PUBLISH
X-WR-CALNAME:Boys &amp; Girls Clubs of Greater Northwest Indiana
X-ORIGINAL-URL:https://www.bgcgreaternwi.org
X-WR-CALDESC:Events for Boys &amp; Girls Clubs of Greater Northwest Indiana
BEGIN:VTIMEZONE
TZID:UTC
BEGIN:STANDARD
TZOFFSETFROM:+0000
TZOFFSETTO:+0000
TZNAME:UTC
DTSTART:20240101T000000
END:STANDARD
END:VTIMEZONE
BEGIN:VEVENT
DTSTART;VALUE=DATE:20240619
DTEND;VALUE=DATE:20240620
DTSTAMP:20260422T023737
CREATED:20240307T161538Z
LAST-MODIFIED:20240307T161538Z
UID:24980-1718755200-1718841599@www.bgcgreaternwi.org
SUMMARY:Organization Closed
DESCRIPTION:All Clubs and Administrative Office are closed on June 19.  \n
URL:https://www.bgcgreaternwi.org/club-calendar/organization-closed-2/
END:VEVENT
END:VCALENDAR