BEGIN:VCALENDAR
VERSION:2.0
PRODID:-//Boys &amp; Girls Clubs of Greater Northwest Indiana - ECPv5.0.3.1//NONSGML v1.0//EN
CALSCALE:GREGORIAN
METHOD:PUBLISH
X-WR-CALNAME:Boys &amp; Girls Clubs of Greater Northwest Indiana
X-ORIGINAL-URL:https://www.bgcgreaternwi.org
X-WR-CALDESC:Events for Boys &amp; Girls Clubs of Greater Northwest Indiana
BEGIN:VTIMEZONE
TZID:UTC
BEGIN:STANDARD
TZOFFSETFROM:+0000
TZOFFSETTO:+0000
TZNAME:UTC
DTSTART:20240101T000000
END:STANDARD
END:VTIMEZONE
BEGIN:VEVENT
DTSTART;VALUE=DATE:20240603
DTEND;VALUE=DATE:20240604
DTSTAMP:20260422T023808
CREATED:20240307T161506Z
LAST-MODIFIED:20240307T161506Z
UID:24978-1717372800-1717459199@www.bgcgreaternwi.org
SUMMARY:Summer Starts
DESCRIPTION:Summer starts June 3 for all Clubs.\nHours: 6:30 a.m. – 6:30 p.m. \n
URL:https://www.bgcgreaternwi.org/club-calendar/summer-starts/
END:VEVENT
END:VCALENDAR