BEGIN:VCALENDAR
VERSION:2.0
PRODID:-//Boys &amp; Girls Clubs of Greater Northwest Indiana - ECPv5.0.3.1//NONSGML v1.0//EN
CALSCALE:GREGORIAN
METHOD:PUBLISH
X-WR-CALNAME:Boys &amp; Girls Clubs of Greater Northwest Indiana
X-ORIGINAL-URL:https://www.bgcgreaternwi.org
X-WR-CALDESC:Events for Boys &amp; Girls Clubs of Greater Northwest Indiana
BEGIN:VTIMEZONE
TZID:UTC
BEGIN:STANDARD
TZOFFSETFROM:+0000
TZOFFSETTO:+0000
TZNAME:UTC
DTSTART:20240101T000000
END:STANDARD
END:VTIMEZONE
BEGIN:VEVENT
DTSTART;VALUE=DATE:20240401
DTEND;VALUE=DATE:20240402
DTSTAMP:20260424T075153
CREATED:20240123T185605Z
LAST-MODIFIED:20240123T185656Z
UID:24928-1711929600-1712015999@www.bgcgreaternwi.org
SUMMARY:Hammond Club Closed
DESCRIPTION:The Hammond Club will be closed. \n
URL:https://www.bgcgreaternwi.org/club-calendar/hammond-club/
LOCATION:Hammond Club\, 5840 Calumet Ave\, Hammond\, IN\, 46320\, United States
GEO:41.6071096;-87.5092098
X-APPLE-STRUCTURED-LOCATION;VALUE=URI;X-ADDRESS=Hammond Club 5840 Calumet Ave Hammond IN 46320 United States;X-APPLE-RADIUS=500;X-TITLE=5840 Calumet Ave:geo:-87.5092098,41.6071096
END:VEVENT
END:VCALENDAR