BEGIN:VCALENDAR
VERSION:2.0
PRODID:-//Boys &amp; Girls Clubs of Greater Northwest Indiana - ECPv5.0.3.1//NONSGML v1.0//EN
CALSCALE:GREGORIAN
METHOD:PUBLISH
X-WR-CALNAME:Boys &amp; Girls Clubs of Greater Northwest Indiana
X-ORIGINAL-URL:https://www.bgcgreaternwi.org
X-WR-CALDESC:Events for Boys &amp; Girls Clubs of Greater Northwest Indiana
BEGIN:VTIMEZONE
TZID:UTC
BEGIN:STANDARD
TZOFFSETFROM:+0000
TZOFFSETTO:+0000
TZNAME:UTC
DTSTART:20240101T000000
END:STANDARD
END:VTIMEZONE
BEGIN:VEVENT
DTSTART;VALUE=DATE:20240325
DTEND;VALUE=DATE:20240330
DTSTAMP:20260424T091157
CREATED:20240122T171800Z
LAST-MODIFIED:20240122T171800Z
UID:24917-1711324800-1711756799@www.bgcgreaternwi.org
SUMMARY:Spring Break Kidstop
DESCRIPTION:The following Clubs are running Spring Break Kidstop during this week: Cedar Lake\, Duneland\, East Chicago\, Lake Station\, Portage\, Valparaiso. \n  \nPlease see your Club for details. \n
URL:https://www.bgcgreaternwi.org/club-calendar/spring-break-kidstop/
END:VEVENT
END:VCALENDAR