BEGIN:VCALENDAR
VERSION:2.0
PRODID:-//Boys &amp; Girls Clubs of Greater Northwest Indiana - ECPv5.0.3.1//NONSGML v1.0//EN
CALSCALE:GREGORIAN
METHOD:PUBLISH
X-WR-CALNAME:Boys &amp; Girls Clubs of Greater Northwest Indiana
X-ORIGINAL-URL:https://www.bgcgreaternwi.org
X-WR-CALDESC:Events for Boys &amp; Girls Clubs of Greater Northwest Indiana
BEGIN:VTIMEZONE
TZID:UTC
BEGIN:STANDARD
TZOFFSETFROM:+0000
TZOFFSETTO:+0000
TZNAME:UTC
DTSTART:20230101T000000
END:STANDARD
END:VTIMEZONE
BEGIN:VEVENT
DTSTART;TZID=UTC:20231030T160000
DTEND;TZID=UTC:20231030T183000
DTSTAMP:20260424T142107
CREATED:20231002T165507Z
LAST-MODIFIED:20231002T165507Z
UID:24752-1698681600-1698690600@www.bgcgreaternwi.org
SUMMARY:Portage: Halloween Party
DESCRIPTION:The Portage Club will be hosting their Halloween party on Monday\, October 30 from 4:00 – 6:30 p.m. \n
URL:https://www.bgcgreaternwi.org/club-calendar/portage-halloween-party/
LOCATION:Portage Club\, 5895 Evergreen Ave.\, Portage\, IN\, 46368\, United States
END:VEVENT
BEGIN:VEVENT
DTSTART;TZID=UTC:20231030T170000
DTEND;TZID=UTC:20231030T190000
DTSTAMP:20260424T142107
CREATED:20231010T184700Z
LAST-MODIFIED:20231010T184700Z
UID:24778-1698685200-1698692400@www.bgcgreaternwi.org
SUMMARY:Hammond Halloween Party
DESCRIPTION:Halloween Party & Haunted Hallway \nMonday\, October 30 \n5:00 – 7:00 p.m. \nWear your Halloween costume and join us for the fun! Enjoy our spooky Haunted Hallway! \n
URL:https://www.bgcgreaternwi.org/club-calendar/hammond-halloween-party/
LOCATION:Hammond Club\, 5840 Calumet Ave\, Hammond\, IN\, 46320\, United States
GEO:41.6071096;-87.5092098
X-APPLE-STRUCTURED-LOCATION;VALUE=URI;X-ADDRESS=Hammond Club 5840 Calumet Ave Hammond IN 46320 United States;X-APPLE-RADIUS=500;X-TITLE=5840 Calumet Ave:geo:-87.5092098,41.6071096
END:VEVENT
END:VCALENDAR