BEGIN:VCALENDAR
VERSION:2.0
PRODID:-//Boys &amp; Girls Clubs of Greater Northwest Indiana - ECPv5.0.3.1//NONSGML v1.0//EN
CALSCALE:GREGORIAN
METHOD:PUBLISH
X-WR-CALNAME:Boys &amp; Girls Clubs of Greater Northwest Indiana
X-ORIGINAL-URL:https://www.bgcgreaternwi.org
X-WR-CALDESC:Events for Boys &amp; Girls Clubs of Greater Northwest Indiana
BEGIN:VTIMEZONE
TZID:UTC
BEGIN:STANDARD
TZOFFSETFROM:+0000
TZOFFSETTO:+0000
TZNAME:UTC
DTSTART:20230101T000000
END:STANDARD
END:VTIMEZONE
BEGIN:VEVENT
DTSTART;TZID=UTC:20231021T070000
DTEND;TZID=UTC:20231021T100000
DTSTAMP:20260424T152952
CREATED:20231002T165651Z
LAST-MODIFIED:20231002T165651Z
UID:24754-1697871600-1697882400@www.bgcgreaternwi.org
SUMMARY:Duneland: Pancake Breakfast Fundraiser
DESCRIPTION:Join us at George’s Gyros for a fundraiser! Saturday\, October 21 from 7:00 – 10:00 a.m. \n
URL:https://www.bgcgreaternwi.org/club-calendar/duneland-pancake-breakfast-fundraiser/
LOCATION:Duneland Club\, 521 W 1100 N\, Chesterton\, IN\, 46304\, United States
GEO:41.593076;-87.059923
X-APPLE-STRUCTURED-LOCATION;VALUE=URI;X-ADDRESS=Duneland Club 521 W 1100 N Chesterton IN 46304 United States;X-APPLE-RADIUS=500;X-TITLE=521 W 1100 N:geo:-87.059923,41.593076
END:VEVENT
END:VCALENDAR