BEGIN:VCALENDAR
VERSION:2.0
PRODID:-//Boys &amp; Girls Clubs of Greater Northwest Indiana - ECPv5.0.3.1//NONSGML v1.0//EN
CALSCALE:GREGORIAN
METHOD:PUBLISH
X-WR-CALNAME:Boys &amp; Girls Clubs of Greater Northwest Indiana
X-ORIGINAL-URL:https://www.bgcgreaternwi.org
X-WR-CALDESC:Events for Boys &amp; Girls Clubs of Greater Northwest Indiana
BEGIN:VTIMEZONE
TZID:UTC
BEGIN:STANDARD
TZOFFSETFROM:+0000
TZOFFSETTO:+0000
TZNAME:UTC
DTSTART:20230101T000000
END:STANDARD
END:VTIMEZONE
BEGIN:VEVENT
DTSTART;VALUE=DATE:20230619
DTEND;VALUE=DATE:20230620
DTSTAMP:20260424T202318
CREATED:20230524T193925Z
LAST-MODIFIED:20230524T194038Z
UID:24659-1687132800-1687219199@www.bgcgreaternwi.org
SUMMARY:All Clubs Closed
DESCRIPTION:All Clubs and Administrative Office will be closed for Juneteenth. \n
URL:https://www.bgcgreaternwi.org/club-calendar/all-clubs-closed-4/
LOCATION:All Clubs
END:VEVENT
END:VCALENDAR