BEGIN:VCALENDAR
VERSION:2.0
PRODID:-//Boys &amp; Girls Clubs of Greater Northwest Indiana - ECPv5.0.3.1//NONSGML v1.0//EN
CALSCALE:GREGORIAN
METHOD:PUBLISH
X-WR-CALNAME:Boys &amp; Girls Clubs of Greater Northwest Indiana
X-ORIGINAL-URL:https://www.bgcgreaternwi.org
X-WR-CALDESC:Events for Boys &amp; Girls Clubs of Greater Northwest Indiana
BEGIN:VTIMEZONE
TZID:UTC
BEGIN:STANDARD
TZOFFSETFROM:+0000
TZOFFSETTO:+0000
TZNAME:UTC
DTSTART:20230101T000000
END:STANDARD
END:VTIMEZONE
BEGIN:VEVENT
DTSTART;VALUE=DATE:20230612
DTEND;VALUE=DATE:20230613
DTSTAMP:20260424T202320
CREATED:20230321T160343Z
LAST-MODIFIED:20230321T160343Z
UID:24544-1686528000-1686614399@www.bgcgreaternwi.org
SUMMARY:East Chicago First Day of Summer Camp
DESCRIPTION:June 12 – August 4 \n7:00 a.m. – 6:30 p.m. \n  \nFree Club Hours: 2:00 – 6:30 p.m. \n  \nPricing \nDaily Fee: $6 per child \nWeekly Fee: $30 per child \nRegistration Fee (Per Family): $20 \n
URL:https://www.bgcgreaternwi.org/club-calendar/east-chicago-first-day-of-summer-camp/
LOCATION:East Chicago Katherine House\, 2009 E 138th St.\, East Chicago\, IN\, 46312\, United States
GEO:41.6442001;-87.4468668
X-APPLE-STRUCTURED-LOCATION;VALUE=URI;X-ADDRESS=East Chicago Katherine House 2009 E 138th St. East Chicago IN 46312 United States;X-APPLE-RADIUS=500;X-TITLE=2009 E 138th St.:geo:-87.4468668,41.6442001
END:VEVENT
BEGIN:VEVENT
DTSTART;VALUE=DATE:20230612
DTEND;VALUE=DATE:20230613
DTSTAMP:20260424T202320
CREATED:20230322T200505Z
LAST-MODIFIED:20230322T200505Z
UID:24559-1686528000-1686614399@www.bgcgreaternwi.org
SUMMARY:Portage First Day of Summer Camp
DESCRIPTION:June 12 – August 4\n6:30 a.m. – 6:00 p.m. \nDaily Fee: $20 first child; $16 additional children\nWeekly Fee: $90 first child; $70 additional children\n*Membership scholarships are available to those who qualify.  \nPre-register at: bgcgreaternwi.org/portage \n
URL:https://www.bgcgreaternwi.org/club-calendar/portage-first-day-of-summer-camp/
LOCATION:Portage Club\, 5895 Evergreen Ave.\, Portage\, IN\, 46368\, United States
END:VEVENT
BEGIN:VEVENT
DTSTART;VALUE=DATE:20230612
DTEND;VALUE=DATE:20230613
DTSTAMP:20260424T202320
CREATED:20230324T192252Z
LAST-MODIFIED:20230324T192252Z
UID:24588-1686528000-1686614399@www.bgcgreaternwi.org
SUMMARY:Hammond First Day of Summer Camp
DESCRIPTION:June 12 – August 4 \n7:00 a.m. – 6:00 p.m. \n  \nPricing: $90 first child; $70 additional children. \n  \nMore information at: bgcgreaternwi.org/hammond \n
URL:https://www.bgcgreaternwi.org/club-calendar/hammond-first-day-of-summer-camp/
LOCATION:Hammond Club\, 5840 Calumet Ave\, Hammond\, IN\, 46320\, United States
GEO:41.6071096;-87.5092098
X-APPLE-STRUCTURED-LOCATION;VALUE=URI;X-ADDRESS=Hammond Club 5840 Calumet Ave Hammond IN 46320 United States;X-APPLE-RADIUS=500;X-TITLE=5840 Calumet Ave:geo:-87.5092098,41.6071096
END:VEVENT
END:VCALENDAR