BEGIN:VCALENDAR
VERSION:2.0
PRODID:-//Boys &amp; Girls Clubs of Greater Northwest Indiana - ECPv5.0.3.1//NONSGML v1.0//EN
CALSCALE:GREGORIAN
METHOD:PUBLISH
X-WR-CALNAME:Boys &amp; Girls Clubs of Greater Northwest Indiana
X-ORIGINAL-URL:https://www.bgcgreaternwi.org
X-WR-CALDESC:Events for Boys &amp; Girls Clubs of Greater Northwest Indiana
BEGIN:VTIMEZONE
TZID:UTC
BEGIN:STANDARD
TZOFFSETFROM:+0000
TZOFFSETTO:+0000
TZNAME:UTC
DTSTART:20230101T000000
END:STANDARD
END:VTIMEZONE
BEGIN:VEVENT
DTSTART;TZID=UTC:20230603T120000
DTEND;TZID=UTC:20230603T150000
DTSTAMP:20260424T202326
CREATED:20230322T200202Z
LAST-MODIFIED:20230322T205450Z
UID:24557-1685793600-1685804400@www.bgcgreaternwi.org
SUMMARY:Portage Day for Kids
DESCRIPTION:Saturday\, June 3\nNoon – 3:00 p.m. \nJoin us for a fun\, free event with food\, games and prizes. Register for summer and learn more about the Club.  \nThis event is free and open to the public.  \n
URL:https://www.bgcgreaternwi.org/club-calendar/portage-day-for-kids/
LOCATION:Portage Club\, 5895 Evergreen Ave.\, Portage\, IN\, 46368\, United States
END:VEVENT
END:VCALENDAR