BEGIN:VCALENDAR
VERSION:2.0
PRODID:-//Boys &amp; Girls Clubs of Greater Northwest Indiana - ECPv5.0.3.1//NONSGML v1.0//EN
CALSCALE:GREGORIAN
METHOD:PUBLISH
X-WR-CALNAME:Boys &amp; Girls Clubs of Greater Northwest Indiana
X-ORIGINAL-URL:https://www.bgcgreaternwi.org
X-WR-CALDESC:Events for Boys &amp; Girls Clubs of Greater Northwest Indiana
BEGIN:VTIMEZONE
TZID:UTC
BEGIN:STANDARD
TZOFFSETFROM:+0000
TZOFFSETTO:+0000
TZNAME:UTC
DTSTART:20230101T000000
END:STANDARD
END:VTIMEZONE
BEGIN:VEVENT
DTSTART;VALUE=DATE:20230530
DTEND;VALUE=DATE:20230603
DTSTAMP:20260424T202015
CREATED:20230524T195056Z
LAST-MODIFIED:20230524T195056Z
UID:24671-1685404800-1685750399@www.bgcgreaternwi.org
SUMMARY:Gary Club Closed
DESCRIPTION:The Gary Club will be closed from May 30 – June 2. \n
URL:https://www.bgcgreaternwi.org/club-calendar/gary-club-closed/
LOCATION:John Will Anderson Gary\, 2700 W 19th Ave.\, Gary\, IN\, 46404\, United States
GEO:41.584528;-87.371595
X-APPLE-STRUCTURED-LOCATION;VALUE=URI;X-ADDRESS=John Will Anderson Gary 2700 W 19th Ave. Gary IN 46404 United States;X-APPLE-RADIUS=500;X-TITLE=2700 W 19th Ave.:geo:-87.371595,41.584528
END:VEVENT
END:VCALENDAR