BEGIN:VCALENDAR
VERSION:2.0
PRODID:-//Boys &amp; Girls Clubs of Greater Northwest Indiana - ECPv5.0.3.1//NONSGML v1.0//EN
CALSCALE:GREGORIAN
METHOD:PUBLISH
X-WR-CALNAME:Boys &amp; Girls Clubs of Greater Northwest Indiana
X-ORIGINAL-URL:https://www.bgcgreaternwi.org
X-WR-CALDESC:Events for Boys &amp; Girls Clubs of Greater Northwest Indiana
BEGIN:VTIMEZONE
TZID:UTC
BEGIN:STANDARD
TZOFFSETFROM:+0000
TZOFFSETTO:+0000
TZNAME:UTC
DTSTART:20230101T000000
END:STANDARD
END:VTIMEZONE
BEGIN:VEVENT
DTSTART;VALUE=DATE:20230530
DTEND;VALUE=DATE:20230531
DTSTAMP:20260424T202204
CREATED:20230321T160006Z
LAST-MODIFIED:20230321T160006Z
UID:24542-1685404800-1685491199@www.bgcgreaternwi.org
SUMMARY:Duneland First Day of Summer Camp
DESCRIPTION:May 30 – July 28 \n6:30 a.m. – 6:00 p.m. \n  \nPricing \nWeekly Fee: $110 first child; $70 additional children \nRegistration Fee (Per Family): $20 \n  \nDaily Schedule \nMonday: Dogwood Park Visit \nTuesday: Swimming at CHS (3rd grade and up) \nWednesday: Field Trip Day \nThursday: Splash Pad \nFriday: Field Day or Water Day / Popcorn & Movie \n
URL:https://www.bgcgreaternwi.org/club-calendar/duneland-first-day-of-summer-camp/
LOCATION:Duneland Club\, 521 W 1100 N\, Chesterton\, IN\, 46304\, United States
GEO:41.593076;-87.059923
X-APPLE-STRUCTURED-LOCATION;VALUE=URI;X-ADDRESS=Duneland Club 521 W 1100 N Chesterton IN 46304 United States;X-APPLE-RADIUS=500;X-TITLE=521 W 1100 N:geo:-87.059923,41.593076
END:VEVENT
BEGIN:VEVENT
DTSTART;VALUE=DATE:20230530
DTEND;VALUE=DATE:20230603
DTSTAMP:20260424T202204
CREATED:20230524T195056Z
LAST-MODIFIED:20230524T195056Z
UID:24671-1685404800-1685750399@www.bgcgreaternwi.org
SUMMARY:Gary Club Closed
DESCRIPTION:The Gary Club will be closed from May 30 – June 2. \n
URL:https://www.bgcgreaternwi.org/club-calendar/gary-club-closed/
LOCATION:John Will Anderson Gary\, 2700 W 19th Ave.\, Gary\, IN\, 46404\, United States
GEO:41.584528;-87.371595
X-APPLE-STRUCTURED-LOCATION;VALUE=URI;X-ADDRESS=John Will Anderson Gary 2700 W 19th Ave. Gary IN 46404 United States;X-APPLE-RADIUS=500;X-TITLE=2700 W 19th Ave.:geo:-87.371595,41.584528
END:VEVENT
BEGIN:VEVENT
DTSTART;TZID=UTC:20230530T070000
DTEND;TZID=UTC:20230530T180000
DTSTAMP:20260424T202204
CREATED:20230315T211115Z
LAST-MODIFIED:20230315T211115Z
UID:24520-1685430000-1685469600@www.bgcgreaternwi.org
SUMMARY:Cedar Lake First Day of Summer Camp
DESCRIPTION:\n\n\n\nMay 30 – August 4\nMonday – Friday • 7:00 am. – 6:00 p.m. \n\n\n\nPricing\nRegistration Fee (per family): $20\nDaily Fee: $20 first child; $16 additional children\nWeekly Fee: $90 first child; $70 additional children \nMeals\nEach member will receive a free daily breakfast\, lunch and afternoon snack. Members are able to bring their own lunch if they choose. \n\n
URL:https://www.bgcgreaternwi.org/club-calendar/cedar-lake-first-day-of-summer-camp/
LOCATION:Cedar Lake Club\, 13000 Fairbanks\, Cedar Lake\, IN\, 46511\, United States
GEO:41.381741;-87.41804
X-APPLE-STRUCTURED-LOCATION;VALUE=URI;X-ADDRESS=Cedar Lake Club 13000 Fairbanks Cedar Lake IN 46511 United States;X-APPLE-RADIUS=500;X-TITLE=13000 Fairbanks:geo:-87.41804,41.381741
END:VEVENT
END:VCALENDAR